BEGIN:VCALENDAR
VERSION:2.0
PRODID:gruene-iphofen.de
METHOD:PUBLISH
BEGIN:VTIMEZONE
TZID:Europe/Berlin
X-LIC-LOCATION:Europe/Berlin
BEGIN:DAYLIGHT
TZOFFSETFROM:+0100
TZOFFSETTO:+0200
TZNAME:CEST
DTSTART:19700329T020000
RRULE:FREQ=YEARLY;INTERVAL=1;BYDAY=-1SU;BYMONTH=3
END:DAYLIGHT
BEGIN:STANDARD
TZOFFSETFROM:+0200
TZOFFSETTO:+0100
TZNAME:CET
DTSTART:19701025T030000
RRULE:FREQ=YEARLY;INTERVAL=1;BYDAY=-1SU;BYMONTH=10
END:STANDARD
END:VTIMEZONE
BEGIN:VEVENT
UID:785bcc11b7a45d6518d59831e4bcf4d4@gruene-iphofen.de
URL;VALUE=URI:https://gruene-iphofen.de/termine/fruehlings-runde-2024-iph
 ofen/
LOCATION:
SUMMARY:Frühlings-Runde 2024 Iphofen
DESCRIPTION;ALTREP="data:text/html,%0A%3Cp%3EAm%20Donnerstag%2C%206.%20Ju
 ni%202024%20ab%2018%3A30%20Uhr%20findet%20unsere%20Gr%C3%BCne%20Fr%C3%BCh
 lings-Runde%20in%20der%20Pizzeria%20Da%20Mariella%20%28Bahnhofsstra%C3%9F
 e%2054%2C%20Iphofen%29%20statt.%3C%2Fp%3E%0A%0A%0A%0A%3Cp%3E%3C%2Fp%3E%0A
 ":Am Donnerstag\, 6. Juni 2024 ab 18:30 Uhr findet unsere Grüne Frühlin
 gs-Runde in der Pizzeria Da Mariella (Bahnhofsstraße 54\, Iphofen) statt
 .
CLASS:PUBLIC
DTSTART;TZID=Europe/Berlin:20240606T183000
DTEND;TZID=Europe/Berlin:20240606T193000
DTSTAMP:20260420T111820
END:VEVENT
END:VCALENDAR